BEGIN:VCALENDAR
VERSION:2.0
PRODID:-//KAMA - ECPv6.15.20//NONSGML v1.0//EN
CALSCALE:GREGORIAN
METHOD:PUBLISH
X-ORIGINAL-URL:https://kalamaarts.org
X-WR-CALDESC:Events for KAMA
REFRESH-INTERVAL;VALUE=DURATION:PT1H
X-Robots-Tag:noindex
X-PUBLISHED-TTL:PT1H
BEGIN:VTIMEZONE
TZID:America/Los_Angeles
BEGIN:DAYLIGHT
TZOFFSETFROM:-0800
TZOFFSETTO:-0700
TZNAME:PDT
DTSTART:20250309T100000
END:DAYLIGHT
BEGIN:STANDARD
TZOFFSETFROM:-0700
TZOFFSETTO:-0800
TZNAME:PST
DTSTART:20251102T090000
END:STANDARD
BEGIN:DAYLIGHT
TZOFFSETFROM:-0800
TZOFFSETTO:-0700
TZNAME:PDT
DTSTART:20260308T100000
END:DAYLIGHT
BEGIN:STANDARD
TZOFFSETFROM:-0700
TZOFFSETTO:-0800
TZNAME:PST
DTSTART:20261101T090000
END:STANDARD
BEGIN:DAYLIGHT
TZOFFSETFROM:-0800
TZOFFSETTO:-0700
TZNAME:PDT
DTSTART:20270314T100000
END:DAYLIGHT
BEGIN:STANDARD
TZOFFSETFROM:-0700
TZOFFSETTO:-0800
TZNAME:PST
DTSTART:20271107T090000
END:STANDARD
END:VTIMEZONE
BEGIN:VEVENT
DTSTART;TZID=America/Los_Angeles:20260505T173000
DTEND;TZID=America/Los_Angeles:20260505T193000
DTSTAMP:20260422T162623
CREATED:20260418T021023Z
LAST-MODIFIED:20260418T021126Z
UID:6915-1778002200-1778009400@kalamaarts.org
SUMMARY:General Meeting
DESCRIPTION:General Meeting starts at 5:30 pm and is followed by Art Share. \nBring a piece of art to share\, whether completed or in progress. \nIf you’re an artist or maker and live in the Kalama area\, we would love to have you join us! We meet the first Tuesday of the month at 5:30 pm at the Kalama VFW Hall located at 222 N. First St. in downtown Kalama. Entrance is at the rear of the building. \nAll members are encouraged to attend.
URL:https://kalamaarts.org/event/general-meeting-05-05-2026
LOCATION:Kalama VFW Hall\, 222 N 1st St\, Kalama\, WA\, 98625\, United States
CATEGORIES:Monthly Meeting
ORGANIZER;CN="KAMA":MAILTO:kama@kalamaarts.org
END:VEVENT
END:VCALENDAR