BEGIN:VCALENDAR
VERSION:2.0
PRODID:-//KAMA - ECPv6.15.20//NONSGML v1.0//EN
CALSCALE:GREGORIAN
METHOD:PUBLISH
X-ORIGINAL-URL:https://kalamaarts.org
X-WR-CALDESC:Events for KAMA
REFRESH-INTERVAL;VALUE=DURATION:PT1H
X-Robots-Tag:noindex
X-PUBLISHED-TTL:PT1H
BEGIN:VTIMEZONE
TZID:America/Los_Angeles
BEGIN:DAYLIGHT
TZOFFSETFROM:-0800
TZOFFSETTO:-0700
TZNAME:PDT
DTSTART:20230312T100000
END:DAYLIGHT
BEGIN:STANDARD
TZOFFSETFROM:-0700
TZOFFSETTO:-0800
TZNAME:PST
DTSTART:20231105T090000
END:STANDARD
BEGIN:DAYLIGHT
TZOFFSETFROM:-0800
TZOFFSETTO:-0700
TZNAME:PDT
DTSTART:20240310T100000
END:DAYLIGHT
BEGIN:STANDARD
TZOFFSETFROM:-0700
TZOFFSETTO:-0800
TZNAME:PST
DTSTART:20241103T090000
END:STANDARD
BEGIN:DAYLIGHT
TZOFFSETFROM:-0800
TZOFFSETTO:-0700
TZNAME:PDT
DTSTART:20250309T100000
END:DAYLIGHT
BEGIN:STANDARD
TZOFFSETFROM:-0700
TZOFFSETTO:-0800
TZNAME:PST
DTSTART:20251102T090000
END:STANDARD
END:VTIMEZONE
BEGIN:VEVENT
DTSTART;TZID=America/Los_Angeles:20241203T173000
DTEND;TZID=America/Los_Angeles:20241203T190000
DTSTAMP:20260422T211244
CREATED:20241114T033524Z
LAST-MODIFIED:20241114T033646Z
UID:6164-1733247000-1733252400@kalamaarts.org
SUMMARY:Annual Potluck & Art Exchange
DESCRIPTION:All members are invited to attend the Annual KAMA Potluck & Art Exchange!\nBring a dish to share\, and some art to exchange. We will also vote on Board nominations for 2025\, and have our regular December meeting. \nHappy Holidays to all our KAMA members!
URL:https://kalamaarts.org/event/annual-potluck-art-exchange
LOCATION:Kalama VFW Hall\, 222 N 1st St\, Kalama\, WA\, 98625\, United States
CATEGORIES:Monthly Meeting
ATTACH;FMTTYPE=image/jpeg:https://kalamaarts.org/wp-content/uploads/2024/11/KAMA-Annual-Holiday-Potluck-Art-Exchange.jpg
END:VEVENT
BEGIN:VEVENT
DTSTART;TZID=America/Los_Angeles:20241001T173000
DTEND;TZID=America/Los_Angeles:20241001T193000
DTSTAMP:20260422T211244
CREATED:20240820T021159Z
LAST-MODIFIED:20240820T021159Z
UID:5987-1727803800-1727811000@kalamaarts.org
SUMMARY:October Monthly Meeting
DESCRIPTION:All members are welcome to attend. Activity and social hour starts at 5:30 pm! \n5:30-6:30 pm: Pre-meeting social hour\, presentations\, demos.\n6:30-7:30 pm: Meeting.
URL:https://kalamaarts.org/event/october-monthly-meeting
LOCATION:Kalama VFW Hall\, 222 N 1st St\, Kalama\, WA\, 98625\, United States
CATEGORIES:Monthly Meeting
ATTACH;FMTTYPE=image/jpeg:https://kalamaarts.org/wp-content/uploads/2023/12/general-meeting-4-website.jpg
ORGANIZER;CN="KAMA":MAILTO:kama@kalamaarts.org
END:VEVENT
BEGIN:VEVENT
DTSTART;TZID=America/Los_Angeles:20240903T173000
DTEND;TZID=America/Los_Angeles:20240903T193000
DTSTAMP:20260422T211244
CREATED:20240531T225909Z
LAST-MODIFIED:20240531T225909Z
UID:5725-1725384600-1725391800@kalamaarts.org
SUMMARY:September Monthly Meeting
DESCRIPTION:All members are welcome to attend. Activity and social hour starts at 5:30 pm! \n5:30-6:30 pm: Pre-meeting social hour\, presentations\, demos.\n6:30-7:30 pm: Meeting.
URL:https://kalamaarts.org/event/september-monthly-meeting
LOCATION:Kalama VFW Hall\, 222 N 1st St\, Kalama\, WA\, 98625\, United States
CATEGORIES:Monthly Meeting
ATTACH;FMTTYPE=image/jpeg:https://kalamaarts.org/wp-content/uploads/2023/12/general-meeting-4-website.jpg
ORGANIZER;CN="KAMA":MAILTO:kama@kalamaarts.org
END:VEVENT
BEGIN:VEVENT
DTSTART;TZID=America/Los_Angeles:20240806T173000
DTEND;TZID=America/Los_Angeles:20240806T193000
DTSTAMP:20260422T211244
CREATED:20240531T224934Z
LAST-MODIFIED:20240531T225113Z
UID:5723-1722965400-1722972600@kalamaarts.org
SUMMARY:August Monthly Meeting
DESCRIPTION:All members are welcome to attend. Activity and social hour starts at 5:30 pm! \n5:30-6:30 pm: Pre-meeting social hour\, presentations\, demos.\n6:30-7:30 pm: Meeting.
URL:https://kalamaarts.org/event/august-monthly-meeting
LOCATION:Kalama VFW Hall\, 222 N 1st St\, Kalama\, WA\, 98625\, United States
CATEGORIES:Monthly Meeting
ATTACH;FMTTYPE=image/jpeg:https://kalamaarts.org/wp-content/uploads/2023/12/general-meeting-4-website.jpg
ORGANIZER;CN="KAMA":MAILTO:kama@kalamaarts.org
END:VEVENT
BEGIN:VEVENT
DTSTART;TZID=America/Los_Angeles:20240702T173000
DTEND;TZID=America/Los_Angeles:20240702T193000
DTSTAMP:20260422T211244
CREATED:20240531T224808Z
LAST-MODIFIED:20240531T224809Z
UID:5721-1719941400-1719948600@kalamaarts.org
SUMMARY:July Monthly Meeting
DESCRIPTION:All members are welcome to attend. Activity and social hour starts at 5:30 pm! \n5:30-6:30 pm: Pre-meeting social hour\, presentations\, demos.\n6:30-7:30 pm: Meeting.
URL:https://kalamaarts.org/event/july-monthly-meeting
LOCATION:Kalama VFW Hall\, 222 N 1st St\, Kalama\, WA\, 98625\, United States
CATEGORIES:Monthly Meeting
ATTACH;FMTTYPE=image/jpeg:https://kalamaarts.org/wp-content/uploads/2023/12/general-meeting-4-website.jpg
ORGANIZER;CN="KAMA":MAILTO:kama@kalamaarts.org
END:VEVENT
BEGIN:VEVENT
DTSTART;TZID=America/Los_Angeles:20240604T173000
DTEND;TZID=America/Los_Angeles:20240604T193000
DTSTAMP:20260422T211244
CREATED:20240531T224335Z
LAST-MODIFIED:20240531T224644Z
UID:5719-1717522200-1717529400@kalamaarts.org
SUMMARY:June Monthly Meeting
DESCRIPTION:All members are welcome to attend. Activity and social hour starts at 5:30 pm! \n5:30-6:30 pm: Pre-meeting social hour\, presentations\, demos.\n6:30-7:30 pm: Meeting.
URL:https://kalamaarts.org/event/june-monthly-meeting
LOCATION:Kalama VFW Hall\, 222 N 1st St\, Kalama\, WA\, 98625\, United States
CATEGORIES:Monthly Meeting
ATTACH;FMTTYPE=image/jpeg:https://kalamaarts.org/wp-content/uploads/2023/12/general-meeting-4-website.jpg
ORGANIZER;CN="KAMA":MAILTO:kama@kalamaarts.org
END:VEVENT
BEGIN:VEVENT
DTSTART;TZID=America/Los_Angeles:20240507T173000
DTEND;TZID=America/Los_Angeles:20240507T193000
DTSTAMP:20260422T211244
CREATED:20240412T001312Z
LAST-MODIFIED:20240412T001410Z
UID:5669-1715103000-1715110200@kalamaarts.org
SUMMARY:May Monthly Meeting
DESCRIPTION:All members are welcome to attend. Activity and social hour starts at 5:30 pm! \n5:30-6:30 pm: Pre-meeting social hour\, presentations\, demos.\n6:30-7:30 pm: Meeting.
URL:https://kalamaarts.org/event/may-monthly-meeting
LOCATION:Kalama VFW Hall\, 222 N 1st St\, Kalama\, WA\, 98625\, United States
CATEGORIES:Monthly Meeting
ATTACH;FMTTYPE=image/jpeg:https://kalamaarts.org/wp-content/uploads/2023/12/general-meeting-4-website.jpg
END:VEVENT
END:VCALENDAR