BEGIN:VCALENDAR
VERSION:2.0
PRODID:-//KAMA - ECPv6.15.20//NONSGML v1.0//EN
CALSCALE:GREGORIAN
METHOD:PUBLISH
X-ORIGINAL-URL:https://kalamaarts.org
X-WR-CALDESC:Events for KAMA
REFRESH-INTERVAL;VALUE=DURATION:PT1H
X-Robots-Tag:noindex
X-PUBLISHED-TTL:PT1H
BEGIN:VTIMEZONE
TZID:America/Los_Angeles
BEGIN:DAYLIGHT
TZOFFSETFROM:-0800
TZOFFSETTO:-0700
TZNAME:PDT
DTSTART:20240310T100000
END:DAYLIGHT
BEGIN:STANDARD
TZOFFSETFROM:-0700
TZOFFSETTO:-0800
TZNAME:PST
DTSTART:20241103T090000
END:STANDARD
BEGIN:DAYLIGHT
TZOFFSETFROM:-0800
TZOFFSETTO:-0700
TZNAME:PDT
DTSTART:20250309T100000
END:DAYLIGHT
BEGIN:STANDARD
TZOFFSETFROM:-0700
TZOFFSETTO:-0800
TZNAME:PST
DTSTART:20251102T090000
END:STANDARD
BEGIN:DAYLIGHT
TZOFFSETFROM:-0800
TZOFFSETTO:-0700
TZNAME:PDT
DTSTART:20260308T100000
END:DAYLIGHT
BEGIN:STANDARD
TZOFFSETFROM:-0700
TZOFFSETTO:-0800
TZNAME:PST
DTSTART:20261101T090000
END:STANDARD
END:VTIMEZONE
BEGIN:VEVENT
DTSTART;TZID=America/Los_Angeles:20251115T170000
DTEND;TZID=America/Los_Angeles:20251115T190000
DTSTAMP:20260422T200431
CREATED:20251007T022721Z
LAST-MODIFIED:20251110T033709Z
UID:6635-1763226000-1763233200@kalamaarts.org
SUMMARY:Macrame Angel Class
DESCRIPTION:EVENT CANCELLED\ndue to lack of interest\n****** \nCreate your own Macrame Angel!\nGet knotty with macrame instructor Kathy Robinson. All supplies\, instruction and treats supplied. \nCost $25. Class limited to 18. Register early. Class fills up fast! \nQuestions\, contact us at kalamaartistsandmakers@gmail.com. \nAdvance ticket purchase required. Purchase below.
URL:https://kalamaarts.org/event/macrame-angel-class
LOCATION:Reece Luxury Art\, 222 N. First St.\, Kalama\, WA\, 98625\, United States
CATEGORIES:Craft Class,Featured Events
ATTACH;FMTTYPE=image/jpeg:https://kalamaarts.org/wp-content/uploads/2025/10/Macrame-Angel-event-image-1160-x-580.jpg
ORGANIZER;CN="KAMA":MAILTO:kama@kalamaarts.org
END:VEVENT
BEGIN:VEVENT
DTSTART;TZID=America/Los_Angeles:20251018T170000
DTEND;TZID=America/Los_Angeles:20251018T190000
DTSTAMP:20260422T200432
CREATED:20250911T022019Z
LAST-MODIFIED:20250911T030339Z
UID:6592-1760806800-1760814000@kalamaarts.org
SUMMARY:Pumpkin Paint Class
DESCRIPTION:Learn how to pour acrylic paint to create your own unique pumpkin creation! \nJust in time for Halloween. Tell your friends and have a fun time. \nSaturday\, October 18\, 5 – 7 pm at Reece Luxury Photography in downtown Kalama. \n$25 includes instruction\, supplies and Fall treats! Please purchase your ticket below. \nQuestions? Email kalamaartistsandmakers@gmail.com.
URL:https://kalamaarts.org/event/pumpkin-paint-class
LOCATION:Reece Luxury Art\, 222 N. First St.\, Kalama\, WA\, 98625\, United States
CATEGORIES:Community Event,Craft Class,Featured Events
ATTACH;FMTTYPE=image/jpeg:https://kalamaarts.org/wp-content/uploads/2025/09/Pumpkin-Paint-Class-website-event-image-1160-x-400.jpg
ORGANIZER;CN="KAMA":MAILTO:kama@kalamaarts.org
END:VEVENT
BEGIN:VEVENT
DTSTART;TZID=America/Los_Angeles:20250816T160000
DTEND;TZID=America/Los_Angeles:20250816T210000
DTSTAMP:20260422T200432
CREATED:20250717T021245Z
LAST-MODIFIED:20250721T211904Z
UID:6518-1755360000-1755378000@kalamaarts.org
SUMMARY:Bottle Cap Sunflower Art
DESCRIPTION:While hanging out at the Street Dance Kick Off Party\, have fund with your friends while making this summertime project.\nKAMA instructors will help you create beautiful sunflowers from recycled bottle caps! \nSaturday\, August 16\, 4 pm – 9 pm. Drop in any time \nFormer OYO Parking Lot\, North end of town\, corner of Kingwood and First Streets. Look for the Kalama Artists & Makers Tent \n$10. All supplies provided.
URL:https://kalamaarts.org/event/bottle-cap-sunflowers
LOCATION:OYO Parking Lot\, corner of Kingwood and First Streets\, Kalama\, WA\, 98625\, United States
CATEGORIES:Craft Class
ATTACH;FMTTYPE=image/jpeg:https://kalamaarts.org/wp-content/uploads/2025/07/bottle-cap-sunflowers-1160-x-400-website-event-image.jpg
ORGANIZER;CN="KAMA":MAILTO:kama@kalamaarts.org
END:VEVENT
END:VCALENDAR