BEGIN:VCALENDAR
VERSION:2.0
PRODID:-//KAMA - ECPv6.15.20//NONSGML v1.0//EN
CALSCALE:GREGORIAN
METHOD:PUBLISH
X-WR-CALNAME:KAMA
X-ORIGINAL-URL:https://kalamaarts.org
X-WR-CALDESC:Events for KAMA
REFRESH-INTERVAL;VALUE=DURATION:PT1H
X-Robots-Tag:noindex
X-PUBLISHED-TTL:PT1H
BEGIN:VTIMEZONE
TZID:America/Los_Angeles
BEGIN:DAYLIGHT
TZOFFSETFROM:-0800
TZOFFSETTO:-0700
TZNAME:PDT
DTSTART:20230312T100000
END:DAYLIGHT
BEGIN:STANDARD
TZOFFSETFROM:-0700
TZOFFSETTO:-0800
TZNAME:PST
DTSTART:20231105T090000
END:STANDARD
BEGIN:DAYLIGHT
TZOFFSETFROM:-0800
TZOFFSETTO:-0700
TZNAME:PDT
DTSTART:20240310T100000
END:DAYLIGHT
BEGIN:STANDARD
TZOFFSETFROM:-0700
TZOFFSETTO:-0800
TZNAME:PST
DTSTART:20241103T090000
END:STANDARD
BEGIN:DAYLIGHT
TZOFFSETFROM:-0800
TZOFFSETTO:-0700
TZNAME:PDT
DTSTART:20250309T100000
END:DAYLIGHT
BEGIN:STANDARD
TZOFFSETFROM:-0700
TZOFFSETTO:-0800
TZNAME:PST
DTSTART:20251102T090000
END:STANDARD
BEGIN:DAYLIGHT
TZOFFSETFROM:-0800
TZOFFSETTO:-0700
TZNAME:PDT
DTSTART:20260308T100000
END:DAYLIGHT
BEGIN:STANDARD
TZOFFSETFROM:-0700
TZOFFSETTO:-0800
TZNAME:PST
DTSTART:20261101T090000
END:STANDARD
END:VTIMEZONE
BEGIN:VEVENT
DTSTART;TZID=America/Los_Angeles:20251004T100000
DTEND;TZID=America/Los_Angeles:20251004T160000
DTSTAMP:20260422T145539
CREATED:20250327T223034Z
LAST-MODIFIED:20250802T030613Z
UID:6267-1759572000-1759593600@kalamaarts.org
SUMMARY:Autumn Art in the Park
DESCRIPTION:Celebrate Autumn!\nKalama Artists and Makers Association presents the annual Autumn Art in the Park \nCelebrate the season’s serendipities with gifts and treasures from local makers and artists. \nVisit the KAMA booth to learn about the association and how you can become a member! \nInterested in being a vendor? KAMA is seeking artist and makers in various mediums. Please contact KAMA President Max Wade at 360-431-5684 \nSPACE RENTAL FEE \nCurrent KAMA member space rental: $10 per artist.\nNon-member space rental: $50 per artist.
URL:https://kalamaarts.org/event/autumn-art-in-the-park-2025
LOCATION:Peter D. Toteff Memorial Park\, 175 S 1st St\, Kalama\, WA\, 98625\, United States
CATEGORIES:Art Show,Community Event
ATTACH;FMTTYPE=image/jpeg:https://kalamaarts.org/wp-content/uploads/2025/08/ART-IN-THE-PARK-OCT2025-1-KAMA-EVENT-CALENDAR-1160x400-1.jpg
ORGANIZER;CN="KAMA":MAILTO:kama@kalamaarts.org
END:VEVENT
BEGIN:VEVENT
DTSTART;TZID=America/Los_Angeles:20250510T100000
DTEND;TZID=America/Los_Angeles:20250510T160000
DTSTAMP:20260422T145539
CREATED:20250327T222726Z
LAST-MODIFIED:20250418T002620Z
UID:6264-1746871200-1746892800@kalamaarts.org
SUMMARY:Mother's Day Art in the Park
DESCRIPTION:Join us for our annual Mother’s Day Weekend Art in the Park!\nPurchase unique artistic gifts for Mother’s Day! \nSaturday\, May 10 10 am-4 pm\, Peter D. Toteff Memorial Park\, downtown Kalama\, street parking available\nJoin local artists\, community members and Mother’s Day art shoppers for artist demonstrations\, art sales\, and a raffle. \nStunning Gift Baskets \nGreat Last Minute Gifts \nPLUS \nTeacup Floral Arrangement Workshop! \nPurchase and make your own gift(s) for the Mothers in your life! \nInterested in Vending?  \nContact us by email at kalamaartistsandmakers@gmail.com for details. Thank you!
URL:https://kalamaarts.org/event/mothers-day-art-in-the-park-2025
LOCATION:Peter D. Toteff Memorial Park\, 175 S 1st St\, Kalama\, WA\, 98625\, United States
CATEGORIES:Art Show,Community Event
ATTACH;FMTTYPE=image/jpeg:https://kalamaarts.org/wp-content/uploads/2025/04/MD2025-Art-Park-1160-x-400-event-calendar.jpg
ORGANIZER;CN="KAMA":MAILTO:kama@kalamaarts.org
END:VEVENT
BEGIN:VEVENT
DTSTART;TZID=America/Los_Angeles:20241005T100000
DTEND;TZID=America/Los_Angeles:20241005T160000
DTSTAMP:20260422T145539
CREATED:20240411T235626Z
LAST-MODIFIED:20240905T163207Z
UID:5667-1728122400-1728144000@kalamaarts.org
SUMMARY:Autumn Art in the Park
DESCRIPTION:Celebrate Autumn!\nKalama Artists and Makers Association presents the third annual Autumn Art in the Park \nCelebrate the season’s serendipities with gifts and treasures from local makers and artists. \nThere will be a free kids craft table and a raffle. Visit the KAMA booth to learn about the association and how you can become a member! \nInterested in being a vendor? KAMA is seeking artist and makers in various mediums. \nSPACE RENTAL FEE \nCurrent KAMA member space rental: $10 per artist.\nNon-member space rental: $50 per artist. \nSee Vendor Sign Up Form for details and instructions.
URL:https://kalamaarts.org/event/autumn-art-in-the-park-2024
LOCATION:Peter D. Toteff Memorial Park\, 175 S 1st St\, Kalama\, WA\, 98625\, United States
CATEGORIES:Art Show
ATTACH;FMTTYPE=image/jpeg:https://kalamaarts.org/wp-content/uploads/2024/08/Autumn-Art-n-Park-2024-1160-x-400-for-web-event-calendar.jpg
ORGANIZER;CN="KAMA":MAILTO:kama@kalamaarts.org
END:VEVENT
BEGIN:VEVENT
DTSTART;TZID=America/Los_Angeles:20240511T100000
DTEND;TZID=America/Los_Angeles:20240511T160000
DTSTAMP:20260422T145539
CREATED:20240208T033031Z
LAST-MODIFIED:20240226T194217Z
UID:5340-1715421600-1715443200@kalamaarts.org
SUMMARY:Mother's Day Art in the Park
DESCRIPTION:Join us for our third annual Mother’s Day Art in the Park!\nPurchase unique artistic gifts for Mother’s Day! \nSaturday\, May 11\, 10 am-4 pm\, Peter D. Toteff Memorial Park\, downtown Kalama\, street parking available\nJoin local artists\, community members and Mother’s Day art shoppers for artist demonstrations\, art sales\, and a raffle. \nThere will be coffee and baked goods to purchase\, and a raffle. Visit the KAMA booth to learn about the association and how you can become a member! \nInterested in being a vendor? KAMA is seeking artist and makers in various mediums. \nSPACE RENTAL FEE \nCurrent KAMA member space rental: $10 per artist.\nNon-member space rental: $50 per artist. \nSee Vendor Sign Up Form for details and instructions.
URL:https://kalamaarts.org/event/mothers-day-art-in-the-park
LOCATION:Peter D. Toteff Memorial Park\, 175 S 1st St\, Kalama\, WA\, 98625\, United States
CATEGORIES:Art Show,Community Event
ATTACH;FMTTYPE=image/jpeg:https://kalamaarts.org/wp-content/uploads/2024/02/calendar-event-artwork-mdap-may2024.jpg
ORGANIZER;CN="KAMA":MAILTO:kama@kalamaarts.org
END:VEVENT
END:VCALENDAR